BEGIN:VCALENDAR
VERSION:2.0
PRODID:-//ChamberMaster//Event Calendar 2.0//EN
METHOD:PUBLISH
X-PUBLISHED-TTL:P3D
REFRESH-INTERVAL:P3D
CALSCALE:GREGORIAN
BEGIN:VEVENT
DTSTART:20241206T000000Z
DTEND:20241206T020000Z
X-MICROSOFT-CDO-ALLDAYEVENT:FALSE
SUMMARY:2024 Christmas Parade & Tree-Lighting
DESCRIPTION:The City of Headland will light the Christmas tree at the gazebo at 6:00pm on the downtown square.  The Grand Marshal will lead the parade through the downtown area followed by bands\, floats\, queens\, dignitaries\, horses\, Santa Claus\, and CornDodgers Farm's candy cannon. The parade line-up will be at Douglas Park starting at 4:30pm and line up ends at 6:00pm. The Christmas Parade is sponsored by the Headland Area Chamber of Commerce and City of Headland. Participants need to complete the online registration by Monday\, December 2nd. Entry fee is $10 for members and $20 for non-members\, $30 for groups and large floats. For more information\, contact the Chamber by email at director@headlandal.org.
X-ALT-DESC;FMTTYPE=text/html:<span style="font-size: 12pt\;">The City of Headland will light the Christmas tree at the gazebo at 6:00pm on the downtown square.&nbsp\;</span><span style="font-size: 12pt\;">&nbsp\;The Grand Marshal will lead the parade through the downtown area followed by bands\, floats\, queens\, dignitaries\, horses\, Santa Claus\, and CornDodgers Farm&#39\;s candy cannon.&nbsp\;</span><span style="font-size: 12pt\;">The parade line-up will be at Douglas Park starting at 4:30pm and line up ends at 6:00pm.&nbsp\;The Christmas Parade is sponsored by the Headland Area Chamber of Commerce and City of Headland. Participants need to complete the online registration by Monday\, December 2nd. Entry fee is $10 for members and $20 for non-members\, $30 for groups and large floats. For more information\, contact the Chamber by email at director@headlandal.org.&nbsp\;</span>
LOCATION:Line-up will begin as early as 4:30pm and end at 6:00pm at Douglas Park\, 312 E. Main St.\, The parade leaves Douglas Park on Church Street and winds around the downtown square\, down South Main St. to King St.\, Cleveland St. and ends on Sporman St. at the school parking lot\, 8 Sporman St.
UID:e.3076.189
SEQUENCE:3
DTSTAMP:20260422T084451Z
URL:https://business.headlandal.com/events/details/2024-christmas-parade-tree-lighting-189
END:VEVENT

END:VCALENDAR
