BEGIN:VCALENDAR
VERSION:2.0
PRODID:-//ChamberMaster//Event Calendar 2.0//EN
METHOD:PUBLISH
X-PUBLISHED-TTL:P3D
REFRESH-INTERVAL:P3D
CALSCALE:GREGORIAN
BEGIN:VEVENT
DTSTART:20241101T170000Z
DTEND:20241231T180000Z
X-MICROSOFT-CDO-ALLDAYEVENT:FALSE
SUMMARY:2024 Let it Glow
DESCRIPTION:Let it Glow in Headland! Our fourth annual Christmas Light Competition is here! Help us light up Headland and make it the premier place in the Wiregrass to check out Christmas Lights and feel the holiday cheer! \nBusinesses to Visit:\n\n\n\nTBA
X-ALT-DESC;FMTTYPE=text/html:<span style="font-family:arial\;">Let it Glow in Headland! Our fourth annual Christmas Light Competition is here! Help us light up Headland and make it the premier place in the Wiregrass to check out Christmas Lights and feel the holiday cheer!&nbsp\;</span>\n<p class="_04xlpA direction-ltr align-center para-style-body" style="line-height: 1.4\; color: rgb(0\, 0\, 0)\;"><strong><span style="font-size:12px\;"><span style="font-family:arial\;"><span class="JsGRdQ"><span style="font-size:20px\;">Businesses to Visit:</span></span></span></span></strong><br />\n<br />\nTBA</p>\n
LOCATION:Throughout Headland\, AL
UID:e.3076.197
SEQUENCE:3
DTSTAMP:20260422T084315Z
URL:https://business.headlandal.com/events/details/2024-let-it-glow-197
END:VEVENT

END:VCALENDAR
