BEGIN:VCALENDAR
VERSION:2.0
PRODID:-//ChamberMaster//Event Calendar 2.0//EN
METHOD:PUBLISH
X-PUBLISHED-TTL:P3D
REFRESH-INTERVAL:P3D
CALSCALE:GREGORIAN
BEGIN:VEVENT
DTSTART:20241122T233000Z
DTEND:20241123T025000Z
X-MICROSOFT-CDO-ALLDAYEVENT:FALSE
SUMMARY:2024 Tinsel Town
DESCRIPTION:Outdoor Movies in the Park: The Polar Express & Elf\n\nBring your lawn chairs\, friends and family!! This year\, we have a double feature!!! The Polar Express will start at 5:30pm and Elf will begin at 7:15pm.\n\n\n\nChristmas Cookie Crawl\n\nVisit each participating business and fill your cookie box! Boxes will be available on the night of the event under the gazebo on the square. Visit the following businesses to pick up a cookie:\n\nDistrict 37\n\nThe BottleTree\n\nThe Headland Library\n\nMoo-Cow Designs\n\nAct Up! Studios\n\nMama Rosa's Pizza\n\nMurphy's\n\nThe Local's Seafood & Grill\n\nJy B's\n\nMo's Ceramics\n\nQuilted Creations\n\nGroove Nutrition\n\n\n\nPhotos with the Conductor\n\nOnce again\, we will have the Conductor from the Polar Express here to take pictures with! Pictures are free of charge and will be taken at Moo-Cow Designs this year.\n\n\n\nTrain Ride\n\nTake a ride on The Polar Express yourself! Running from 5:30pm - 7:00pm\, this golden ticket is free as well!\n\n\n\n\n\nThis free\, family-friendly event is sponsored by: HNB First Bank\, Hometown Food Center\, Riverbend Ford and CDJR\, Southeastern Cooling\, A&D Automotive Group\, YellaWood\, MDI\, Golden Peanut\, Pruitt Communications\, Alabama Power\, First South Farm Credit\, Melissa Elmore State Farm\, CornDodgers Farm\, Money Ford\, Lewis\, Inc.\, SunSouth - Abbeville\, Murphy's\, Alabama Ag Credit\, the City of Headland and the Headland Area Chamber of Commerce.
X-ALT-DESC;FMTTYPE=text/html:<span style="font-size:20px\;"><strong>Outdoor Movies in the Park:&nbsp\;</strong><strong><em>The Polar Express </em>&amp\;<em> Elf</em></strong></span><br />\nBring your lawn chairs\, friends and family!! This year\, we have a&nbsp\;<strong>double feature</strong>!!! <em>The Polar Express</em> will start at 5:30pm and <i>Elf</i>&nbsp\;will begin at 7:15pm.<br />\n<br />\n<span style="font-size: 20px\;"><strong>Christmas Cookie Crawl</strong></span><br />\nVisit each participating business and fill your cookie box! Boxes will be available on the night of the event under the gazebo on the square. Visit the following businesses to pick up a cookie:<br />\nDistrict 37<br />\nThe BottleTree<br />\nThe Headland Library<br />\nMoo-Cow Designs<br />\nAct Up! Studios<br />\nMama Rosa&#39\;s Pizza<br />\nMurphy&#39\;s<br />\nThe Local&#39\;s Seafood &amp\; Grill<br />\nJy B&#39\;s<br />\nMo&#39\;s Ceramics<br />\nQuilted Creations<br />\nGroove Nutrition<br />\n<br />\n<span style="font-size: 20px\;"><strong>Photos with the Conductor</strong></span><br />\nOnce again\, we will have the Conductor from the Polar Express here to take pictures with! Pictures are free of charge and will be taken at Moo-Cow Designs this year.<br />\n<br />\n<span style="font-size: 20px\;"><strong>Train Ride</strong></span><br />\nTake a ride on&nbsp\;<em>The Polar Express</em>&nbsp\;yourself! Running from 5:30pm - 7:00pm\, this golden ticket is free as well!<br />\n<br />\n<br />\nThis free\, family-friendly event is sponsored by: HNB First Bank\, Hometown Food Center\, Riverbend Ford and CDJR\, Southeastern Cooling\, A&amp\;D Automotive Group\, YellaWood\, MDI\, Golden Peanut\, Pruitt Communications\, Alabama Power\, First South Farm Credit\, Melissa Elmore State Farm\, CornDodgers Farm\, Money Ford\, Lewis\, Inc.\, SunSouth - Abbeville\, Murphy&#39\;s\, Alabama Ag Credit\, the City of Headland and the Headland Area Chamber of Commerce.
LOCATION:On the Square\, Downtown Headland
UID:e.3076.184
SEQUENCE:3
DTSTAMP:20260422T112152Z
URL:https://business.headlandal.com/events/details/2024-tinsel-town-184
END:VEVENT

END:VCALENDAR
