BEGIN:VCALENDAR
VERSION:2.0
PRODID:-//ChamberMaster//Event Calendar 2.0//EN
METHOD:PUBLISH
X-PUBLISHED-TTL:P3D
REFRESH-INTERVAL:P3D
CALSCALE:GREGORIAN
BEGIN:VEVENT
DTSTART:20251205T000000Z
DTEND:20251205T020000Z
X-MICROSOFT-CDO-ALLDAYEVENT:FALSE
SUMMARY:2025 Christmas Parade & Tree-Lighting
DESCRIPTION:Celebrate the season with Headland's beloved Christmas Parade! Featuring festive floats\, marching bands\, dance teams\, and a special appearance by Santa Claus\, this annual tradition brings joy to the entire community. Parade entries welcome join the fun and show your holiday spirit!
X-ALT-DESC;FMTTYPE=text/html:Celebrate the season with Headland&rsquo\;s beloved Christmas Parade! Featuring festive floats\, marching bands\, dance teams\, and a special appearance by Santa Claus\, this annual tradition brings joy to the entire community. Parade entries welcome&mdash\;join the fun and show your holiday spirit!
LOCATION:Line-up will begin as early as 5:00pm and end at 6:00pm at Douglas Park\, 312 E. Main St.\, The parade leaves Douglas Park on Church Street and winds around the downtown square\, down South Main St. to King St.\, Cleveland St. and ends on Sporman St. at the school parking lot\, 8 Sporman St.
UID:e.3076.342
SEQUENCE:3
DTSTAMP:20260421T151458Z
URL:https://business.headlandal.com/events/details/2025-christmas-parade-tree-lighting-342
END:VEVENT

END:VCALENDAR
