BEGIN:VCALENDAR
VERSION:2.0
PRODID:-//ChamberMaster//Event Calendar 2.0//EN
METHOD:PUBLISH
X-PUBLISHED-TTL:P3D
REFRESH-INTERVAL:P3D
CALSCALE:GREGORIAN
BEGIN:VEVENT
DTSTART:20251119T180000Z
DTEND:20251231T180000Z
X-MICROSOFT-CDO-ALLDAYEVENT:FALSE
SUMMARY:2025 Let it Glow
DESCRIPTION:Light up Headland for the holidays! "Let it Glow" is our annual Christmas light competition for homes and businesses. Register to showcase your festive spirit\, creativity\, and holiday cheer. Prizes awarded for multiple categories\, and winners are announced in December.
X-ALT-DESC;FMTTYPE=text/html:Light up Headland for the holidays! &ldquo\;Let it Glow&rdquo\; is our annual Christmas light competition for homes and businesses. Register to showcase your festive spirit\, creativity\, and holiday cheer. Prizes awarded for multiple categories\, and winners are announced in December.
LOCATION:Throughout Headland\, AL
UID:e.3076.515
SEQUENCE:3
DTSTAMP:20260421T163520Z
URL:https://business.headlandal.com/events/details/2025-let-it-glow-515
END:VEVENT

END:VCALENDAR
