BEGIN:VCALENDAR
VERSION:2.0
PRODID:-//ChamberMaster//Event Calendar 2.0//EN
METHOD:PUBLISH
X-PUBLISHED-TTL:P3D
REFRESH-INTERVAL:P3D
CALSCALE:GREGORIAN
BEGIN:VEVENT
DTSTART:20251121T233000Z
DTEND:20251122T031500Z
X-MICROSOFT-CDO-ALLDAYEVENT:FALSE
SUMMARY:2025 Tinsel Town
DESCRIPTION:Headland's holiday movie night tradition returns with "Tinsel Town" a magical evening under the stars featuring a family Christmas film on the square. Enjoy festive treats\, free photos with beloved holiday characters\, and a cozy community atmosphere that will warm your heart all season long.
X-ALT-DESC;FMTTYPE=text/html:Headland&rsquo\;s holiday movie night tradition returns with &ldquo\;Tinsel Town&rdquo\;&mdash\;a magical evening under the stars featuring a family Christmas film on the square. Enjoy festive treats\, free photos with beloved holiday characters\, and a cozy community atmosphere that will warm your heart all season long.
LOCATION:On the Square\, Downtown Headland
UID:e.3076.516
SEQUENCE:3
DTSTAMP:20260421T180232Z
URL:https://business.headlandal.com/events/details/2025-tinsel-town-516
END:VEVENT

END:VCALENDAR
