BEGIN:VCALENDAR
VERSION:2.0
PRODID:-//ChamberMaster//Event Calendar 2.0//EN
METHOD:PUBLISH
X-PUBLISHED-TTL:P3D
REFRESH-INTERVAL:P3D
CALSCALE:GREGORIAN
BEGIN:VEVENT
DTSTART:20260224T170000Z
DTEND:20260224T190000Z
X-MICROSOFT-CDO-ALLDAYEVENT:FALSE
SUMMARY:2026 Annual Gemmy Award Luncheon
DESCRIPTION:The Sixth Annual Gemmy Awards will be held February 24th at 12:00pm. Doors will open at 11:00am. Enjoy lunch from the Headland BottleTree while you receive an update from Executive Director Adrienne Wilkins. Then we will will see who takes home a Gemmy! We have 14 awards this year and we are looking forward to celebrating our members. \n\n\n\nFollow us on Facebook\, to see who ultimately takes home a Gemmy this year!
X-ALT-DESC;FMTTYPE=text/html:The Sixth Annual Gemmy Awards will be held February 24th at 12:00pm. Doors will open at 11:00am. Enjoy lunch from the Headland BottleTree while you receive an update from Executive Director Adrienne Wilkins. Then we will will see who takes home a Gemmy! We have 14 awards this year and we are looking forward to celebrating our members.&nbsp\;<br />\n<br />\n<strong><span style="font-size:16px\;"><u><a href="http://www.facebook.com/headlandchamber/">Follow us on </a><a href="https://www.facebook.com/headlandchamber/">Facebook</a></u>\, to see who ultimately takes home a Gemmy this year!&nbsp\;</span></strong>
LOCATION:Headland Methodist Church
UID:e.3076.542
SEQUENCE:3
DTSTAMP:20260421T135310Z
URL:https://business.headlandal.com/events/details/2026-annual-gemmy-award-luncheon-542
END:VEVENT

END:VCALENDAR
