BEGIN:VCALENDAR
VERSION:2.0
PRODID:-//ChamberMaster//Event Calendar 2.0//EN
METHOD:PUBLISH
X-PUBLISHED-TTL:P3D
REFRESH-INTERVAL:P3D
CALSCALE:GREGORIAN
BEGIN:VEVENT
DTSTART:20260123T133000Z
DTEND:20260123T143000Z
X-MICROSOFT-CDO-ALLDAYEVENT:FALSE
SUMMARY:2026 Muffins with the Mayor
DESCRIPTION:Start your morning with muffins and meaningful conversation! Muffins with the Mayor is a casual meet-and-greet where residents and business owners can share ideas\, ask questions\, and connect with Headland Mayor and other community leaders.
X-ALT-DESC;FMTTYPE=text/html:Start your morning with muffins and meaningful conversation! Muffins with the Mayor is a casual meet-and-greet where residents and business owners can share ideas\, ask questions\, and connect with Headland Mayor and other community leaders.&nbsp\;
LOCATION:Blanche R. Solomon Memorial Library 17 Park St Headland\, AL 36345
UID:e.3076.531
SEQUENCE:3
DTSTAMP:20260421T151517Z
URL:https://business.headlandal.com/events/details/2026-muffins-with-the-mayor-531
END:VEVENT

END:VCALENDAR
