BEGIN:VCALENDAR
VERSION:2.0
PRODID:-//ChamberMaster//Event Calendar 2.0//EN
METHOD:PUBLISH
X-PUBLISHED-TTL:P3D
REFRESH-INTERVAL:P3D
CALSCALE:GREGORIAN
BEGIN:VEVENT
DTSTART:20240809T150000Z
DTEND:20240809T160000Z
X-MICROSOFT-CDO-ALLDAYEVENT:FALSE
SUMMARY:August Ribbon Cutting
DESCRIPTION:
X-ALT-DESC;FMTTYPE=text/html:
LOCATION:
UID:e.3076.192
SEQUENCE:3
DTSTAMP:20260422T141424Z
URL:https://business.headlandal.com/events/details/august-ribbon-cutting-192
END:VEVENT

END:VCALENDAR
