BEGIN:VCALENDAR
VERSION:2.0
PRODID:-//ChamberMaster//Event Calendar 2.0//EN
METHOD:PUBLISH
X-PUBLISHED-TTL:P3D
REFRESH-INTERVAL:P3D
CALSCALE:GREGORIAN
BEGIN:VEVENT
DTSTART:20240822T223000Z
DTEND:20240822T233000Z
X-MICROSOFT-CDO-ALLDAYEVENT:FALSE
SUMMARY:Bingo Night
DESCRIPTION:Bingo Night at Azalea Court is back! Network after hours at Azalea Court with residents and chamber members. You may even get to meet Miss Azalea Court.
X-ALT-DESC;FMTTYPE=text/html:Bingo Night at Azalea Court is back! Network after hours at Azalea Court with residents and chamber members. You may even get to meet Miss Azalea Court.&nbsp\;
LOCATION:
UID:e.3076.183
SEQUENCE:3
DTSTAMP:20260422T140812Z
URL:https://business.headlandal.com/events/details/bingo-night-183
END:VEVENT

END:VCALENDAR
