BEGIN:VCALENDAR
VERSION:2.0
PRODID:-//ChamberMaster//Event Calendar 2.0//EN
METHOD:PUBLISH
X-PUBLISHED-TTL:P3D
REFRESH-INTERVAL:P3D
CALSCALE:GREGORIAN
BEGIN:VEVENT
DTSTART:20250821T213000Z
DTEND:20250822T000000Z
X-MICROSOFT-CDO-ALLDAYEVENT:FALSE
SUMMARY:D.R. Horton - Sips & Social
DESCRIPTION:We are hosting a Sips & Social event that is open to the public to introduce ourselves as new to the area and get to know the community better. Whether a real estate pro\, new to the area\, long time local or just someone who needs a good reason to socialize this is for everyone. We will have complimentary drinks and light bites as you casually tour our stunning 'Destin" model home at Heritage Ridge community. There will be networking with fellow agents and professionals in a laid-back environment for an evening full of good vibes. Bring your business cards\, bring your questions\, bring a friend and agents bring your buyers! We can't wait to see you there!
X-ALT-DESC;FMTTYPE=text/html:We are hosting a Sips &amp\; Social event that is open to the public to introduce ourselves as new to the area and get to know the community better. Whether a real estate pro\, new to the area\, long time local or just someone who needs a good reason to socialize this is for everyone. We will have complimentary drinks and light bites as you casually tour our stunning &#39\;Destin&quot\; model home at Heritage Ridge community. There will be networking with fellow agents and professionals in a laid-back environment for an evening full of good vibes. Bring your business cards\, bring your questions\, bring a friend and agents bring your buyers! We can&#39\;t wait to see you there!
LOCATION:337 Heritage way\, Headland AL 36345
UID:e.3076.522
SEQUENCE:3
DTSTAMP:20260421T205255Z
URL:https://business.headlandal.com/events/details/d-r-horton-sips-social-522
END:VEVENT

END:VCALENDAR
