BEGIN:VCALENDAR
VERSION:2.0
PRODID:-//ChamberMaster//Event Calendar 2.0//EN
METHOD:PUBLISH
X-PUBLISHED-TTL:P3D
REFRESH-INTERVAL:P3D
CALSCALE:GREGORIAN
BEGIN:VEVENT
DTSTART:20251015T170000Z
DTEND:20251015T180000Z
X-MICROSOFT-CDO-ALLDAYEVENT:FALSE
SUMMARY:Diamond Club Lunch
DESCRIPTION:The Diamond Club was formed to create a space where like minded Chamber members can come together to meet others and serve their community through networking events\, volunteering at our numerous events or on our event committees\, and participating in various other ways through the Chamber. If you'd like to take your involvement with the Chamber to the next level\, please give us a call at 334-693-3303 or email Adrienne at director@headlandal.org to learn more about the Diamond Club and how to become involved.
X-ALT-DESC;FMTTYPE=text/html:The Diamond Club was formed to create a space where like minded Chamber members can come together to meet others and serve their community through networking events\, volunteering at our numerous events or on our event committees\, and participating in various other ways through the Chamber. If you&#39\;d like to take your involvement with the Chamber to the next level\, please give us a call at 334-693-3303 or email Adrienne at director@headlandal.org to learn more about the Diamond Club and how to become involved.&nbsp\;
LOCATION:Please reach out to the Chamber office for meeting and location information!
UID:e.3076.346
SEQUENCE:3
DTSTAMP:20260421T180458Z
URL:https://business.headlandal.com/events/details/diamond-club-lunch-346
END:VEVENT

END:VCALENDAR
