BEGIN:VCALENDAR
VERSION:2.0
PRODID:-//ChamberMaster//Event Calendar 2.0//EN
METHOD:PUBLISH
X-PUBLISHED-TTL:P3D
REFRESH-INTERVAL:P3D
CALSCALE:GREGORIAN
BEGIN:VEVENT
DTSTART:20250203T180000Z
DTEND:20250203T190000Z
X-MICROSOFT-CDO-ALLDAYEVENT:FALSE
SUMMARY:Diamond Club Lunch
DESCRIPTION:The Diamond Club Lunch brings together Headland's seasoned professionals\, civic leaders\, and long-standing community members for networking\, fellowship\, and local updates. Open to retirees\, established business owners\, and legacy leaders who continue to shape our community.
X-ALT-DESC;FMTTYPE=text/html:The Diamond Club Lunch brings together Headland&rsquo\;s seasoned professionals\, civic leaders\, and long-standing community members for networking\, fellowship\, and local updates. Open to retirees\, established business owners\, and legacy leaders who continue to shape our community.
LOCATION:Please reach out to the Chamber office for meeting and location information!
UID:e.3076.517
SEQUENCE:3
DTSTAMP:20260422T053757Z
URL:https://business.headlandal.com/events/details/diamond-club-lunch-517
END:VEVENT

END:VCALENDAR
