BEGIN:VCALENDAR
VERSION:2.0
PRODID:-//ChamberMaster//Event Calendar 2.0//EN
METHOD:PUBLISH
X-PUBLISHED-TTL:P3D
REFRESH-INTERVAL:P3D
CALSCALE:GREGORIAN
BEGIN:VEVENT
DTSTART:20260324T163000Z
DTEND:20260324T180000Z
X-MICROSOFT-CDO-ALLDAYEVENT:FALSE
SUMMARY:Headshots: Main Character Energy
DESCRIPTION:Join us on March 24th at the TLC Photography Studio for Headshots\, lunch\, and the perfect networking opportunity to meet other professionals in the Headland area!\n\n\n\nThank you to our Chamber Investment Partners for helping us put on this new event!
X-ALT-DESC;FMTTYPE=text/html:Join us on March 24th at the TLC Photography Studio for Headshots\, lunch\, and the perfect networking opportunity to meet other professionals in the Headland area!<br />\n<br />\nThank you to our Chamber Investment Partners for helping us put on this new event!
LOCATION:TLC Photography Studio
UID:e.3076.552
SEQUENCE:3
DTSTAMP:20260421T110655Z
URL:https://business.headlandal.com/events/details/headshots-main-character-energy-552
END:VEVENT

END:VCALENDAR
