BEGIN:VCALENDAR
VERSION:2.0
PRODID:-//ChamberMaster//Event Calendar 2.0//EN
METHOD:PUBLISH
X-PUBLISHED-TTL:P3D
REFRESH-INTERVAL:P3D
CALSCALE:GREGORIAN
BEGIN:VEVENT
DTSTART:20240614T150000Z
DTEND:20240614T160000Z
X-MICROSOFT-CDO-ALLDAYEVENT:FALSE
SUMMARY:June Ribbon Cutting
DESCRIPTION:We're so excited to cut the ribbon on two of our newest Chamber members: Abbeville Family Dentistry & Missy Mae's Snack Shack! Join us in Abbeville at 315 Kirkland St for our first ribbon cutting at 9:30am before we head back to the Square in Headland to cut the next ribbon at 10:15am. We'll see you there!
X-ALT-DESC;FMTTYPE=text/html:We&#39\;re so excited to cut the ribbon on two of our newest Chamber members: Abbeville Family Dentistry &amp\; Missy Mae&#39\;s Snack Shack! Join us in Abbeville at <strong>315 Kirkland St</strong>&nbsp\;for our first ribbon cutting at 9:30am before we head back to the Square in Headland to cut the next ribbon at 10:15am. We&#39\;ll see you there!
LOCATION:
UID:e.3076.190
SEQUENCE:3
DTSTAMP:20260422T171408Z
URL:https://business.headlandal.com/events/details/june-ribbon-cutting-190
END:VEVENT

END:VCALENDAR
