BEGIN:VCALENDAR
VERSION:2.0
PRODID:-//ChamberMaster//Event Calendar 2.0//EN
METHOD:PUBLISH
X-PUBLISHED-TTL:P3D
REFRESH-INTERVAL:P3D
CALSCALE:GREGORIAN
BEGIN:VEVENT
DTSTART;VALUE=DATE:20251018
DTEND;VALUE=DATE:20251019
TRANSP:TRANSPARENT
X-MICROSOFT-CDO-ALLDAYEVENT:TRUE
SUMMARY:Landmark Park’s Fall Farm Day
DESCRIPTION:Cost: $10 for adults\; $8 for seniors and military\; $6 for kids\; free for park members and children 2 and under.\n\nCome and watch how peanuts were harvested in the Wiregrass nearly 100 years ago. Enjoy the sights\, sounds and sweet smells of cane grinding\, syrup making\, butter churning\, soap making and other traditional farm activities. Other activities include music\, antique tractors\, wagon rides and the largest quilt display in the Wiregrass region.
X-ALT-DESC;FMTTYPE=text/html:<div>Cost: $10 for adults\; $8 for seniors and military\; $6 for kids\; free for park members and children 2 and under.</div>\n\n<div>Come and watch how peanuts were harvested in the Wiregrass nearly 100 years ago. Enjoy the sights\, sounds and sweet smells of cane grinding\, syrup making\, butter churning\, soap making and other traditional farm activities. Other activities include music\, antique tractors\, wagon rides and the largest quilt display in the Wiregrass region.</div>\n
LOCATION:Landmark Park
UID:e.3076.525
SEQUENCE:3
DTSTAMP:20260421T191545Z
URL:https://business.headlandal.com/events/details/landmark-park-s-fall-farm-day-525
END:VEVENT

END:VCALENDAR
