BEGIN:VCALENDAR
VERSION:2.0
PRODID:-//ChamberMaster//Event Calendar 2.0//EN
METHOD:PUBLISH
X-PUBLISHED-TTL:P3D
REFRESH-INTERVAL:P3D
CALSCALE:GREGORIAN
BEGIN:VEVENT
DTSTART:20251031T000000Z
DTEND:20251031T030000Z
X-MICROSOFT-CDO-ALLDAYEVENT:FALSE
SUMMARY:Landmark Park’s Legends and Lore
DESCRIPTION:Landmark Park's Legends and Lore\n\nA family-friendly moonlit experience!\n\n$15 for adults\n\n$10 for kids\n\nThis October\, step into the shadows of Legends and Lore at Landmark Park where the spooky stories of local legend come to life.\n\nTake a guided night tour through the park's historic farm and hear chilling tales of strange encounters from our region. Whose footsteps do you hear in the dark?\n\nGather around the fire for s'mores as local author and storyteller Dale Cox shares eerie stories passed down through generations. From haunted history to unsettling folklore\, some tales may just send a chill down your spine.\n\nExplore Landmark Park and its historic buildings after dark because time hasn't forgotten what many wish they could.
X-ALT-DESC;FMTTYPE=text/html:<div><strong>Landmark Park&rsquo\;s&nbsp\;<em>Legends and Lore</em></strong><br />\n<em>A family-friendly moonlit experience!</em></div>\n\n<div>$15 for adults<br />\n$10 for kids</div>\n\n<div>This October\, step into the shadows of&nbsp\;<em>Legends and Lore</em>&nbsp\;at Landmark Park&mdash\;where the spooky stories of local legend come to life.</div>\n\n<div>Take a guided night tour through the park&rsquo\;s historic farm and hear chilling tales of strange encounters from our region. Whose footsteps do you hear in the dark?</div>\n\n<div>Gather around the fire for s&rsquo\;mores as local author and storyteller Dale Cox shares eerie stories passed down through generations. From haunted history to unsettling folklore\, some tales may just send a chill down your spine.</div>\n\n<div>Explore Landmark Park and its historic buildings&nbsp\;<em>after dark</em>&mdash\;because time hasn&rsquo\;t forgotten what many wish they could.</div>\n
LOCATION:Landmark Park
UID:e.3076.529
SEQUENCE:3
DTSTAMP:20260421T180412Z
URL:https://business.headlandal.com/events/details/landmark-park-s-legends-and-lore-529
END:VEVENT

END:VCALENDAR
