BEGIN:VCALENDAR
VERSION:2.0
PRODID:-//ChamberMaster//Event Calendar 2.0//EN
METHOD:PUBLISH
X-PUBLISHED-TTL:P3D
REFRESH-INTERVAL:P3D
CALSCALE:GREGORIAN
BEGIN:VEVENT
DTSTART:20250920T220000Z
DTEND:20250921T010000Z
X-MICROSOFT-CDO-ALLDAYEVENT:FALSE
SUMMARY:Landmark Park’s Peanut Boil
DESCRIPTION:Cost: $10 for adults\; $6 for kids (ages 3-12)\; free for park members and children 2 and under. Bring your picnic and lawn chairs for an after-hours peanut boil. Watch as peanuts are stacked the old fashioned way and listen to bluegrass music. Admission includes boiled peanuts.
X-ALT-DESC;FMTTYPE=text/html:<span style="background-color:rgb(255\, 255\, 255)\; font-family:aptos\,aptos_embeddedfont\,aptos_msfontservice\,calibri\,helvetica\,sans-serif\; font-size:16px">Cost: $10 for adults\; $6 for kids (ages 3-12)\; free for park members and children 2 and under.&nbsp\;Bring your picnic and lawn chairs for an after-hours peanut boil. Watch as peanuts are stacked the old fashioned way and listen to bluegrass music. Admission includes boiled peanuts.</span>
LOCATION:Landmark Park
UID:e.3076.523
SEQUENCE:3
DTSTAMP:20260421T191706Z
URL:https://business.headlandal.com/events/details/landmark-park-s-peanut-boil-523
END:VEVENT

END:VCALENDAR
