BEGIN:VCALENDAR
VERSION:2.0
PRODID:-//ChamberMaster//Event Calendar 2.0//EN
METHOD:PUBLISH
X-PUBLISHED-TTL:P3D
REFRESH-INTERVAL:P3D
CALSCALE:GREGORIAN
BEGIN:VEVENT
DTSTART:20251207T190000Z
DTEND:20251207T220000Z
X-MICROSOFT-CDO-ALLDAYEVENT:FALSE
SUMMARY:Landmark Park’s Victorian Christmas
DESCRIPTION:Cost: Free\n\nListen to Christmas carols and visit with Santa. Enjoy snacks\, arts and crafts\, music\, wagon rides and handmade decorations. A circuit riding preacher will deliver a holiday message. Admission is free and visitors are encouraged to bring nonperishable food items for donation to the Food Bank.
X-ALT-DESC;FMTTYPE=text/html:<div>Cost: Free</div>\n\n<div>Listen to Christmas carols and visit with Santa. Enjoy snacks\, arts and crafts\, music\, wagon rides and handmade decorations. A circuit riding preacher will deliver a holiday message. Admission is free and visitors are encouraged to bring nonperishable food items for donation to the Food Bank.</div>\n
LOCATION:Landmark Park
UID:e.3076.527
SEQUENCE:3
DTSTAMP:20260421T151636Z
URL:https://business.headlandal.com/events/details/landmark-park-s-victorian-christmas-527
END:VEVENT

END:VCALENDAR
