BEGIN:VCALENDAR
VERSION:2.0
PRODID:-//ChamberMaster//Event Calendar 2.0//EN
METHOD:PUBLISH
X-PUBLISHED-TTL:P3D
REFRESH-INTERVAL:P3D
CALSCALE:GREGORIAN
BEGIN:VEVENT
DTSTART:20241107T233000Z
DTEND:20241107T180000Z
X-MICROSOFT-CDO-ALLDAYEVENT:FALSE
SUMMARY:Pie Party
DESCRIPTION:Shelley is back!!!\n\n\n\nWe're welcoming the Chamber's unofficial mascot\, Shelley the Pecan Pie\, back this year for Pass The Pie. In case you missed the fun last year\, our Pass The Pie campaign is a social media blitz throughout the entire month of November where Headland businesses Pass The Pie to each other\, and post pictures and videos tagging the Chamber for everyone to follow along. Last year\, this campaign was successful with flying colors and "Shelley" took on a personality of her own. We are so excited to see where this campaign takes her this year\, and we're excited to celebrate this momentous occasion with all of you! We will have games\, door prizes\, and of course\, PIE!! Join us for our first Pie Party at Ravenwood Sporting Clays at 5:30 pm on Thursday November 7th. We'll see you there!
X-ALT-DESC;FMTTYPE=text/html:<span style="font-size:16px\;"><strong>Shelley is back!!!</strong></span><br />\n<br />\nWe&#39\;re welcoming the Chamber&#39\;s unofficial mascot\, Shelley the Pecan Pie\, back this year for Pass The Pie. In case you missed the fun last year\, our Pass The Pie campaign is a social media blitz throughout the entire month of November where Headland businesses Pass The Pie to each other\, and post pictures and videos tagging the Chamber for everyone to follow along. Last year\, this campaign was successful with flying colors and &quot\;Shelley&quot\; took on a personality of her own. We are so excited to see where this campaign takes her this year\, and we&#39\;re excited to celebrate this momentous occasion with all of you! We will have games\, door prizes\, and of course\, PIE!! Join us for our first Pie Party at Ravenwood Sporting Clays at 5:30 pm on Thursday November 7th. We&#39\;ll see you there!
LOCATION:Ravenwood Sporting Clays 10671 US-431 Headland\, AL 36345
UID:e.3076.194
SEQUENCE:3
DTSTAMP:20260422T111925Z
URL:https://business.headlandal.com/events/details/pie-party-194
END:VEVENT

END:VCALENDAR
