BEGIN:VCALENDAR
VERSION:2.0
PRODID:-//ChamberMaster//Event Calendar 2.0//EN
METHOD:PUBLISH
X-PUBLISHED-TTL:P3D
REFRESH-INTERVAL:P3D
CALSCALE:GREGORIAN
BEGIN:VEVENT
DTSTART:20250711T140000Z
DTEND:20250711T143000Z
X-MICROSOFT-CDO-ALLDAYEVENT:FALSE
SUMMARY:Running with Scissors
DESCRIPTION:Join us every 2nd Friday of the month as we celebrate new businesses and milestones in the Headland area with ribbon cuttings\, community networking\, and scissors in hand! Each month features a different location.Follow us on Facebook to see where we're cutting a ribbon next!
X-ALT-DESC;FMTTYPE=text/html:Join us every 2nd Friday of the month as we celebrate new businesses and milestones in the Headland area with ribbon cuttings\, community networking\, and scissors in hand! Each month features a different location.<span style="font-size:14px\;"><strong>Follow us on <a href="https://www.facebook.com/headlandchamber">Facebook</a> to see where we&#39\;re cutting a ribbon next!</strong></span>
LOCATION:Various business locations in Headland\, AL (announced monthly)
UID:e.3076.509
SEQUENCE:3
DTSTAMP:20260421T222150Z
URL:https://business.headlandal.com/events/details/running-with-scissors-07-11-2025-509
END:VEVENT

END:VCALENDAR
