BEGIN:VCALENDAR
VERSION:2.0
PRODID:-//ChamberMaster//Event Calendar 2.0//EN
METHOD:PUBLISH
X-PUBLISHED-TTL:P3D
REFRESH-INTERVAL:P3D
CALSCALE:GREGORIAN
BEGIN:VEVENT
DTSTART:20240622T000000Z
DTEND:20240622T030000Z
X-MICROSOFT-CDO-ALLDAYEVENT:FALSE
SUMMARY:Under the Oaks 2024
DESCRIPTION:Under the Oaks is back! Headland welcomes you to shop\, dine and listen to the musical artists we have this year.\n\n\n\nThis year we have a great lineup: \n\nApril 19th - The Springs\n\nMay 17th - L.A. Playboys\n\nJune 21st - The Tommy Morse Band\n\nJuly 19th - The Rock Mob\n\n\n\nWe also have some yummy food trucks coming out this year: \n\nJune\n\nMary's Grub on the Go\n\nBossman's Kitchen\n\nSummertime Snow\n\nMissy Mae's Snack Shack\n\nJuly\n\nThe Rollin' Trapp\n\nCatering Queens Water Ice\n\nBread For Life\n\nTikiz Shaved Ice\n\nMary's Grub on the Go\n\n\n\nLearn More About Downtown Headland\n\n\n\nGet a preview of music at Under the Oaks
X-ALT-DESC;FMTTYPE=text/html:<div style="text-align: center\;"><span style="text-align: center\;">Under the Oaks is back! Headland welcomes you to shop\, dine and listen to the musical artists we have this year.</span><br style="text-align: center\;" />\n<br style="text-align: center\;" />\n<span style="text-align: center\;">This year we have a great lineup:&nbsp\;</span><br style="text-align: center\;" />\n<span style="text-align: center\;">April 19th&nbsp\;- The Springs</span><br style="text-align: center\;" />\n<span style="text-align: center\;">May 17th - L.A. Playboys</span><br style="text-align: center\;" />\n<span style="text-align: center\;">June 21st&nbsp\;- The Tommy Morse Band</span><br style="text-align: center\;" />\n<span style="text-align: center\;">July 19th&nbsp\;- The Rock Mob</span><br style="text-align: center\;" />\n<br style="text-align: center\;" />\n<span style="text-align: center\;">We also have some yummy food trucks coming out this year:&nbsp\;</span><br style="text-align: center\;" />\n<span style="text-align: center\;"><strong>June</strong></span><br />\n<span style="text-align: center\;">Mary&#39\;s Grub on the Go<br />\nBossman&#39\;s Kitchen<br />\nSummertime Snow<br />\nMissy Mae&#39\;s Snack Shack</span><br style="text-align: center\;" />\n<strong><span style="text-align: center\;">July</span></strong><br />\n<span style="text-align: center\;">The Rollin&#39\; Trapp<br />\nCatering Queens Water Ice<br />\nBread For Life<br />\nTikiz Shaved Ice<br />\nMary&#39\;s Grub on the Go</span><br style="text-align: center\;" />\n<br style="text-align: center\;" />\n<strong style="text-align: center\;"><a href="http://www.headlandmainstreet.com">Learn More About Downtown Headland</a><br />\n<br />\n<a href="https://open.spotify.com/playlist/2NFn6vNyv7M07ZD1KanoGc?si=1982e3417062497d"><span style="color: rgb(0\, 128\, 0)\;">Get a preview of music at Under the Oaks</span></a></strong></div>\n
LOCATION:Bring your lawn chairs and blankets and come to the Square in Downtown Headland. There are several places to dine and shop while you are down here! Our local restaurants are ready to get you food and drinks on the go and our Food Trucks too! Come out to Under the Oaks in Headland and stay a while.
UID:e.3076.178
SEQUENCE:3
DTSTAMP:20260422T172022Z
URL:https://business.headlandal.com/events/details/under-the-oaks-06-21-2024-178
END:VEVENT

END:VCALENDAR
