BEGIN:VCALENDAR
VERSION:2.0
PRODID:-//ChamberMaster//Event Calendar 2.0//EN
METHOD:PUBLISH
X-PUBLISHED-TTL:P3D
REFRESH-INTERVAL:P3D
CALSCALE:GREGORIAN
BEGIN:VEVENT
DTSTART:20250419T000000Z
DTEND:20250419T030000Z
X-MICROSOFT-CDO-ALLDAYEVENT:FALSE
SUMMARY:Under the Oaks 2025
DESCRIPTION:Under the Oaks is back! Headland welcomes you to shop\, dine and listen to the musical artists we have this year.\n\n\n\nThis year we have a great lineup: \n\nApril 18th - Baylee Knighton opening for The Ryan Waters Band\n\nMay 16th - The Rock Mob\n\nJune 20th - Kenny on the Keys\n\nDecember 12th - TBD\n\n\n\nWe also have some yummy food trucks coming out this year: \n\nApril\n\nTikiz of the Wiregrass\n\nCorndog Man\n\nSmith Brother's\n\nSmokin' Moe's\n\nMary's Grub on the Go\n\n\n\nMay\n\nSummertime Snow\n\nCorndog Man\n\nSmith Brother's\n\nSassy Southern Chics\n\nHuey's\n\n\n\nJune\n\nTikiz of the Wiregrass\n\nSmith Brother's Roasted Corn\n\nBread for Life\n\nGreek Street \n\n\n\nDecember\n\nTBD\n\n\n\nLearn More About Downtown Headland\n\n\n\nGet a preview of music at Under the Oaks
X-ALT-DESC;FMTTYPE=text/html:<div style="text-align: center\;"><span style="text-align: center\;">Under the Oaks is back! Headland welcomes you to shop\, dine and listen to the musical artists we have this year.</span><br style="text-align: center\;" />\n<br style="text-align: center\;" />\n<span style="text-align: center\;">This year we have a great lineup:&nbsp\;</span><br style="text-align: center\;" />\n<span style="text-align: center\;">April 18th&nbsp\;- Baylee Knighton opening for The Ryan Waters Band</span><br style="text-align: center\;" />\n<span style="text-align: center\;">May 16th - The Rock Mob</span><br style="text-align: center\;" />\n<span style="text-align: center\;">June 20th - Kenny on the Keys</span><br style="text-align: center\;" />\n<span style="text-align: center\;">December 12th - TBD</span><br style="text-align: center\;" />\n<br style="text-align: center\;" />\n<span style="text-align: center\;">We also have some yummy food trucks coming out this year:&nbsp\;</span><br style="text-align: center\;" />\n<span style="text-align: center\;"><strong>April</strong><br />\nTikiz of the Wiregrass<br />\nCorndog Man<br />\nSmith Brother&#39\;s<br />\nSmokin&#39\; Moe&#39\;s<br />\nMary&#39\;s Grub on the Go</span><br />\n<br style="text-align: center\;" />\n<span style="text-align: center\;"><strong>May</strong></span><br />\nSummertime Snow<br />\nCorndog Man<br />\nSmith Brother&#39\;s<br />\nSassy Southern Chics<br />\nHuey&#39\;s<br />\n<br style="text-align: center\;" />\n<strong><span style="text-align: center\;">June</span></strong><br />\n<span style="text-align: center\;">Tikiz of the Wiregrass<br />\nSmith Brother&#39\;s Roasted Corn<br />\nBread for Life<br />\nGreek Street&nbsp\;</span><br />\n<br style="text-align: center\;" />\n<span style="text-align: center\;"><strong>December</strong><br />\nTBD</span><br style="text-align: center\;" />\n<br style="text-align: center\;" />\n<strong style="text-align: center\;"><a href="http://www.headlandmainstreet.com">Learn More About Downtown Headland</a><br />\n<br />\n<span style="color: rgb(0\, 128\, 0)\;">Get a preview of music at Under the Oaks</span></strong></div>\n
LOCATION:Bring your lawn chairs and blankets and come to the Square in Downtown Headland. There are several places to dine and shop while you are down here! Our local restaurants are ready to get you food and drinks on the go and our Food Trucks too! Come out to Under the Oaks in Headland and stay a while.
UID:e.3076.336
SEQUENCE:3
DTSTAMP:20260422T024152Z
URL:https://business.headlandal.com/events/details/under-the-oaks-2025-336
END:VEVENT

END:VCALENDAR
