BEGIN:VCALENDAR
VERSION:2.0
PRODID:-//ChamberMaster//Event Calendar 2.0//EN
METHOD:PUBLISH
X-PUBLISHED-TTL:P3D
REFRESH-INTERVAL:P3D
CALSCALE:GREGORIAN
BEGIN:VEVENT
DTSTART:20261212T010000Z
DTEND:20261212T040000Z
X-MICROSOFT-CDO-ALLDAYEVENT:FALSE
SUMMARY:Under the Oaks - Christmas Edition
DESCRIPTION:Under the Oaks is back\, and this time it's under Christmas lights! Headland welcomes you to shop\, dine and listen to the sweet sounds of the holidays while you admire all the beautiful decorations downtown.\n\n\n\nLearn More About Downtown Headland
X-ALT-DESC;FMTTYPE=text/html:<div style="text-align: center\;"><span style="text-align: center\;">Under the Oaks is back\, and this time it&#39\;s under Christmas lights! Headland welcomes you to shop\, dine and listen to the sweet sounds of the holidays while you admire all the beautiful decorations downtown.</span><br style="text-align: center\;" />\n<br style="text-align: center\;" />\n<strong style="text-align: center\;"><a href="http://www.headlandmainstreet.com">Learn More About Downtown Headland</a></strong></div>\n
LOCATION:Bring your lawn chairs and blankets and come to the Square in Downtown Headland. There are several places to dine and shop while you are down here! Our local restaurants are ready to get you food and drinks on the go and our Food Trucks too! Come out to Under the Oaks in Headland and stay a while.
UID:e.3076.551
SEQUENCE:3
DTSTAMP:20260421T220244Z
URL:https://business.headlandal.com/events/details/under-the-oaks-christmas-edition-551
END:VEVENT

END:VCALENDAR
