BEGIN:VCALENDAR
VERSION:2.0
PRODID:-//ChamberMaster//Event Calendar 2.0//EN
METHOD:PUBLISH
X-PUBLISHED-TTL:P3D
REFRESH-INTERVAL:P3D
CALSCALE:GREGORIAN
BEGIN:VEVENT
DTSTART:20250509T153000Z
DTEND:20250509T170000Z
X-MICROSOFT-CDO-ALLDAYEVENT:FALSE
SUMMARY:Women in Business
DESCRIPTION:Headland's Women in Business events are designed to inspire\, connect\, and empower local women entrepreneurs\, professionals\, and leaders. Gather for networking\, guest speakers\, leadership development\, and shared encouragement in a relaxed\, supportive atmosphere.
X-ALT-DESC;FMTTYPE=text/html:Headland&rsquo\;s Women in Business events are designed to inspire\, connect\, and empower local women entrepreneurs\, professionals\, and leaders. Gather for networking\, guest speakers\, leadership development\, and shared encouragement in a relaxed\, supportive atmosphere.
LOCATION:Varies local venues and businesses in Headland\, AL (check chamber calendar for details)
UID:e.3076.520
SEQUENCE:3
DTSTAMP:20260422T010425Z
URL:https://business.headlandal.com/events/details/women-in-business-520
END:VEVENT

END:VCALENDAR
