BEGIN:VCALENDAR
VERSION:2.0
PRODID:-//ChamberMaster//Event Calendar 2.0//EN
METHOD:PUBLISH
X-PUBLISHED-TTL:P3D
REFRESH-INTERVAL:P3D
CALSCALE:GREGORIAN
BEGIN:VEVENT
DTSTART:20250401T163000Z
DTEND:20250401T180000Z
X-MICROSOFT-CDO-ALLDAYEVENT:FALSE
SUMMARY:Your Face Tells Your Story
DESCRIPTION:Join us on April 1st at the TLC Photography Studio for Headshots\, a food truck lunch\, and the perfect networking opportunity to meet other professionals in the Headland area!\n\n\n\nThank you to our Chamber Investment Partners for helping us put on this new event!
X-ALT-DESC;FMTTYPE=text/html:Join us on April 1st at the TLC Photography Studio for Headshots\, a food truck lunch\, and the perfect networking opportunity to meet other professionals in the Headland area!<br />\n<br />\nThank you to our Chamber Investment Partners for helping us put on this new event!
LOCATION:TLC Photography Studio
UID:e.3076.519
SEQUENCE:3
DTSTAMP:20260422T041525Z
URL:https://business.headlandal.com/events/details/your-face-tells-your-story-519
END:VEVENT

END:VCALENDAR
